BEGIN:VCALENDAR
VERSION:2.0
PRODID:-// - ECPv6.15.1.1//NONSGML v1.0//EN
CALSCALE:GREGORIAN
METHOD:PUBLISH
X-ORIGINAL-URL:https://terrellhousebandb.com
X-WR-CALDESC:Events for 
REFRESH-INTERVAL;VALUE=DURATION:PT1H
X-Robots-Tag:noindex
X-PUBLISHED-TTL:PT1H
BEGIN:VTIMEZONE
TZID:UTC
BEGIN:STANDARD
TZOFFSETFROM:+0000
TZOFFSETTO:+0000
TZNAME:UTC
DTSTART:20160101T000000
END:STANDARD
END:VTIMEZONE
BEGIN:VEVENT
DTSTART;TZID=UTC:20160430T080000
DTEND;TZID=UTC:20160430T110000
DTSTAMP:20260424T071457
CREATED:20160319T194302Z
LAST-MODIFIED:20160418T163744Z
UID:315-1462003200-1462014000@terrellhousebandb.com
SUMMARY:Burnsville Metric Bike Ride
DESCRIPTION:The 22nd annual Burnsville Metric takes place on the scenic roads of Yancey and Mitchell counties. This event is near Asheville\, NC and Johnson City\, TN off I-26.  and is 60.7 miles long with three well-supplied rest stops. Registration and packet pick-up: Burnsville Town Center\, 7:15 a.m.-8:45 a.m. Ride begins 9 a.m. Nu Wray Inn will provide a post-race barbecue meal.
URL:https://terrellhousebandb.com/events/burnsville-metric-bike-ride/
LOCATION:Yancey/Mitchell County
END:VEVENT
BEGIN:VEVENT
DTSTART;TZID=UTC:20160422T080000
DTEND;TZID=UTC:20160422T170000
DTSTAMP:20260424T071457
CREATED:20160319T194042Z
LAST-MODIFIED:20160319T194042Z
UID:314-1461312000-1461344400@terrellhousebandb.com
SUMMARY:Color Fun Run
DESCRIPTION:
URL:https://terrellhousebandb.com/events/color-fun-run/
LOCATION:Town Square\, Burnsville\, 28714
END:VEVENT
BEGIN:VEVENT
DTSTART;TZID=UTC:20160401T190000
DTEND;TZID=UTC:20160401T220000
DTSTAMP:20260424T071457
CREATED:20160319T193902Z
LAST-MODIFIED:20160319T193902Z
UID:312-1459537200-1459548000@terrellhousebandb.com
SUMMARY:Darren Nicholson Band
DESCRIPTION:
URL:https://terrellhousebandb.com/events/darren-nicholson-band/
LOCATION:Town Center\, 109 Robertson Street\, Burnsville\, 28714\, United States
END:VEVENT
END:VCALENDAR