BEGIN:VCALENDAR
VERSION:2.0
PRODID:-// - ECPv6.15.1.1//NONSGML v1.0//EN
CALSCALE:GREGORIAN
METHOD:PUBLISH
X-ORIGINAL-URL:https://terrellhousebandb.com
X-WR-CALDESC:Events for 
REFRESH-INTERVAL;VALUE=DURATION:PT1H
X-Robots-Tag:noindex
X-PUBLISHED-TTL:PT1H
BEGIN:VTIMEZONE
TZID:UTC
BEGIN:STANDARD
TZOFFSETFROM:+0000
TZOFFSETTO:+0000
TZNAME:UTC
DTSTART:20160101T000000
END:STANDARD
END:VTIMEZONE
BEGIN:VEVENT
DTSTART;VALUE=DATE:20170429
DTEND;VALUE=DATE:20170430
DTSTAMP:20260424T040125
CREATED:20170125T214158Z
LAST-MODIFIED:20170125T214158Z
UID:455-1493424000-1493510399@terrellhousebandb.com
SUMMARY:Burnsville Metric Bike Ride
DESCRIPTION:Open your cycling season at the Burnsville Metric Bike Ride\, 60 miles or what you can do. The road is finished in and around town\, so come and enjoy the Spring in Western North Carolina.
URL:https://terrellhousebandb.com/events/burnsville-metric-bike-ride-2/
LOCATION:Burnsville\, NC\, 28714\, United States
END:VEVENT
BEGIN:VEVENT
DTSTART;TZID=UTC:20170401T090000
DTEND;TZID=UTC:20170401T170000
DTSTAMP:20260424T040125
CREATED:20170307T194734Z
LAST-MODIFIED:20170307T194734Z
UID:465-1491037200-1491066000@terrellhousebandb.com
SUMMARY:Burnsville Annual Spring Retail Expo
DESCRIPTION:Come and see what is new on the retail scene. All day event in the Town Center
URL:https://terrellhousebandb.com/events/burnsville-annual-spring-retail-expo/
END:VEVENT
BEGIN:VEVENT
DTSTART;TZID=UTC:20170323T193000
DTEND;TZID=UTC:20170323T220000
DTSTAMP:20260424T040125
CREATED:20170323T002337Z
LAST-MODIFIED:20170323T002337Z
UID:481-1490297400-1490306400@terrellhousebandb.com
SUMMARY:Buncombe Turnpike
DESCRIPTION:Buncombe Turnpike returns for their annual visit planning traditional Bluegrass music
URL:https://terrellhousebandb.com/events/buncombe-turnpike-2/
LOCATION:Town Center\, Burnsville\, 28714
END:VEVENT
BEGIN:VEVENT
DTSTART;TZID=UTC:20170318T190000
DTEND;TZID=UTC:20170318T220000
DTSTAMP:20260424T040125
CREATED:20170307T194908Z
LAST-MODIFIED:20170322T235645Z
UID:467-1489863600-1489874400@terrellhousebandb.com
SUMMARY:The Crowe Brothers
DESCRIPTION:Music by the famous Crowe Brothers\, Gospel and Bluegrass
URL:https://terrellhousebandb.com/events/the-crowe-brothers/
LOCATION:Town Center\, Burnsville\, 28714
END:VEVENT
BEGIN:VEVENT
DTSTART;TZID=UTC:20170311T090000
DTEND;TZID=UTC:20170311T170000
DTSTAMP:20260424T040125
CREATED:20170307T194606Z
LAST-MODIFIED:20170307T194606Z
UID:463-1489222800-1489251600@terrellhousebandb.com
SUMMARY:Burnsville Spring Festival
DESCRIPTION:Local arts and crafts show in the Town Center…
URL:https://terrellhousebandb.com/events/burnsville-spring-festival/
LOCATION:Town Center\, Burnsville\, 28714
END:VEVENT
BEGIN:VEVENT
DTSTART;TZID=UTC:20170218T081000
DTEND;TZID=UTC:20170218T150000
DTSTAMP:20260424T040125
CREATED:20170131T194857Z
LAST-MODIFIED:20170131T194857Z
UID:460-1487405400-1487430000@terrellhousebandb.com
SUMMARY:Burnsville Wedding Expo
DESCRIPTION:Expo is from 11 Am to 3PM\, come and find out about having a wedding in or around Burnsville in the beautiful North Carolina  mountains.
URL:https://terrellhousebandb.com/events/burnsville-wedding-expo/
LOCATION:Town Center\, Burnsville\, 28714
END:VEVENT
BEGIN:VEVENT
DTSTART;TZID=UTC:20161203T090000
DTEND;TZID=UTC:20161203T110000
DTSTAMP:20260424T040125
CREATED:20161124T025550Z
LAST-MODIFIED:20161124T025550Z
UID:435-1480755600-1480762800@terrellhousebandb.com
SUMMARY:Burnsville Christmas Parade
DESCRIPTION:The Annual Christmas Parade is Dec 3\, 2017
URL:https://terrellhousebandb.com/events/burnsville-christmas-parade/
LOCATION:Main Street Burnsville\, Burnsville\, NC\, 28714\, United States
END:VEVENT
BEGIN:VEVENT
DTSTART;TZID=UTC:20161202T173000
DTEND;TZID=UTC:20161202T183000
DTSTAMP:20260424T040125
CREATED:20161130T195359Z
LAST-MODIFIED:20161130T195359Z
UID:445-1480699800-1480703400@terrellhousebandb.com
SUMMARY:Santa Comes to Burnsville
DESCRIPTION:Santa Claus Comes to Town\, Burnsville \nDec. 2. At 5:30 p.m.\, Santa will greet kids at the Burnsville Town Center. Pose for a photo with Santa\, receive a goody bag from his elves\, and enjoy hot chocolate and cookies while creating Christmas cards for family members.
URL:https://terrellhousebandb.com/events/santa-comes-to-burnsville/
LOCATION:Town Center\, Burnsville\, 28714
CATEGORIES:City Events
END:VEVENT
BEGIN:VEVENT
DTSTART;VALUE=DATE:20161202
DTEND;VALUE=DATE:20161205
DTSTAMP:20260424T040125
CREATED:20161124T025054Z
LAST-MODIFIED:20161124T025054Z
UID:433-1480636800-1480895999@terrellhousebandb.com
SUMMARY:Toe River Arts Council Studio Tour
DESCRIPTION:The Toe River Arts Council December Tour is Dec. 2-3-4\, 2017. \nCome and see some the best Arts and Crafts people in the world.
URL:https://terrellhousebandb.com/events/toe-river-arts-council-studio-tour-2/
LOCATION:Yancey/Mitchell County
END:VEVENT
BEGIN:VEVENT
DTSTART;TZID=UTC:20161104T190000
DTEND;TZID=UTC:20161104T223000
DTSTAMP:20260424T040125
CREATED:20160927T161720Z
LAST-MODIFIED:20160927T161720Z
UID:423-1478286000-1478298600@terrellhousebandb.com
SUMMARY:Doyle Lawson and Quicksilver
DESCRIPTION:Music
URL:https://terrellhousebandb.com/events/doyle-lawson-and-quicksilver/
LOCATION:Town Center\, Burnsville\, 28714
END:VEVENT
BEGIN:VEVENT
DTSTART;TZID=UTC:20161029T190000
DTEND;TZID=UTC:20161029T220000
DTSTAMP:20260424T040125
CREATED:20160927T161506Z
LAST-MODIFIED:20160927T161506Z
UID:419-1477767600-1477778400@terrellhousebandb.com
SUMMARY:Dylan Wilson & Friends Variety Show
DESCRIPTION:
URL:https://terrellhousebandb.com/events/dylan-wilson-friends-variety-show/
END:VEVENT
BEGIN:VEVENT
DTSTART;TZID=UTC:20161021T190000
DTEND;TZID=UTC:20161021T220000
DTSTAMP:20260424T040125
CREATED:20160927T161347Z
LAST-MODIFIED:20160927T161347Z
UID:418-1477076400-1477087200@terrellhousebandb.com
SUMMARY:Little Roy and Lizzy
DESCRIPTION:Music
URL:https://terrellhousebandb.com/events/little-roy-and-lizzy/
LOCATION:Town Center\, Burnsville\, 28714
END:VEVENT
BEGIN:VEVENT
DTSTART;TZID=UTC:20161015T090000
DTEND;TZID=UTC:20161015T160000
DTSTAMP:20260424T040125
CREATED:20161015T160750Z
LAST-MODIFIED:20160927T161033Z
UID:412-1476522000-1476547200@terrellhousebandb.com
SUMMARY:Health and Beauty Expo
DESCRIPTION:
URL:https://terrellhousebandb.com/events/health-and-beauty-expo/
LOCATION:Town Center\, Burnsville\, 28714
END:VEVENT
BEGIN:VEVENT
DTSTART;TZID=UTC:20161008T193000
DTEND;TZID=UTC:20161008T223000
DTSTAMP:20260424T040125
CREATED:20160927T160616Z
LAST-MODIFIED:20160927T160616Z
UID:410-1475955000-1475965800@terrellhousebandb.com
SUMMARY:New Town Music featuring Mitchell Cannon
DESCRIPTION:
URL:https://terrellhousebandb.com/events/new-town-music-featuring-mitchell-cannon/
LOCATION:Town Center\, Burnsville\, 28714
END:VEVENT
BEGIN:VEVENT
DTSTART;TZID=UTC:20161008T100000
DTEND;TZID=UTC:20161009T170000
DTSTAMP:20260424T040125
CREATED:20160530T003958Z
LAST-MODIFIED:20160530T003958Z
UID:361-1475920800-1476032400@terrellhousebandb.com
SUMMARY:Spruce Pine Potters Market
DESCRIPTION:
URL:https://terrellhousebandb.com/events/spruce-pine-potters-market-2/
LOCATION:Spruce Pine\, North Carolina\, Cross Street\, Spruce Pine\, NC
END:VEVENT
BEGIN:VEVENT
DTSTART;TZID=UTC:20160924T193000
DTEND;TZID=UTC:20160924T193000
DTSTAMP:20260424T040125
CREATED:20160503T165205Z
LAST-MODIFIED:20160503T165205Z
UID:342-1474745400-1474745400@terrellhousebandb.com
SUMMARY:Parkway Playhouse - The Great Gatsby
DESCRIPTION:
URL:https://terrellhousebandb.com/events/parkway-playhouse-the-great-gatsby/
LOCATION:Parkway Playhouse\, 202 Green Mountain Drive\, Burnsville\, NC\, 28601\, United States
END:VEVENT
BEGIN:VEVENT
DTSTART;TZID=UTC:20160924T080000
DTEND;TZID=UTC:20160924T170000
DTSTAMP:20260424T040125
CREATED:20160719T164656Z
LAST-MODIFIED:20160719T164656Z
UID:380-1474704000-1474736400@terrellhousebandb.com
SUMMARY:Burnsville Old Timey Days
DESCRIPTION:Come and see and enjoy life long ago.. Lots of features and events\, old cars and old tractor parade starts off the festivities.
URL:https://terrellhousebandb.com/events/burnsville-old-timey-days/
LOCATION:Town Square\, Burnsville\, 28714
END:VEVENT
BEGIN:VEVENT
DTSTART;TZID=UTC:20160908T080000
DTEND;TZID=UTC:20160910T170000
DTSTAMP:20260424T040125
CREATED:20160719T164417Z
LAST-MODIFIED:20160719T164417Z
UID:379-1473321600-1473526800@terrellhousebandb.com
SUMMARY:Burnsville Literary Festival
DESCRIPTION:The Burnsville Literary Festival runs from Sept 6 tothru Sept 10. Keynote Speaker is past NC Poet Laureate Fred Chappell. \nOther writers and singers are Doug Orr and Sara Lynch-Thomason\, among others. \nSessions are all day long in hour and half hour segments.
URL:https://terrellhousebandb.com/events/burnsville-literary-festival/
LOCATION:Town Center\, 109 Robertson Street\, Burnsville\, 28714\, United States
END:VEVENT
BEGIN:VEVENT
DTSTART;TZID=UTC:20160908T080000
DTEND;TZID=UTC:20160910T170000
DTSTAMP:20260424T040125
CREATED:20160506T184228Z
LAST-MODIFIED:20160506T184228Z
UID:347-1473321600-1473526800@terrellhousebandb.com
SUMMARY:Carolina Mountains Literary Festival - Burnsville
DESCRIPTION:
URL:https://terrellhousebandb.com/events/carolina-mountains-literary-festival-burnsville/
LOCATION:Town Center\, Burnsville\, 28714
END:VEVENT
BEGIN:VEVENT
DTSTART;TZID=UTC:20160827T193000
DTEND;TZID=UTC:20160910T170000
DTSTAMP:20260424T040125
CREATED:20160503T165014Z
LAST-MODIFIED:20160503T165014Z
UID:341-1472326200-1473526800@terrellhousebandb.com
SUMMARY:Parkway Playhouse -You Can't Take It With You
DESCRIPTION:
URL:https://terrellhousebandb.com/events/parkway-playhouse-you-cant-take-it-with-you/
LOCATION:Parkway Playhouse\, 202 Green Mountain Drive\, Burnsville\, NC\, 28601\, United States
END:VEVENT
BEGIN:VEVENT
DTSTART;VALUE=DATE:20160827
DTEND;VALUE=DATE:20160828
DTSTAMP:20260424T040125
CREATED:20160418T234150Z
LAST-MODIFIED:20160418T234840Z
UID:333-1472256000-1472342399@terrellhousebandb.com
SUMMARY:Mount Mitchell State Park Centennial Celebration
DESCRIPTION:Access to Mt. Mitchell State Park from the Blue Ridge Parkway will be closed to all vehicle traffic on Saturday\, August 27th. Mt. Mitchell State Park will be hosting the signature Centennial Celebration for NC State Parks and will provide shuttle services to the park from several regional locations to ensure that visitors may attend the event in a safe and enjoyable manner. We will have more information on shuttle locations and event plans as we get closer to August 27th.
URL:https://terrellhousebandb.com/events/mt-mitchell-state-park-centennial-celebration/
LOCATION:Mount Mitchell State Park\, 2388 State Highway 128\, Burnsville\, NC\, 28714\, United States
CATEGORIES:Blue Ridge Parkway
END:VEVENT
BEGIN:VEVENT
DTSTART;TZID=UTC:20160731T080000
DTEND;TZID=UTC:20160731T170000
DTSTAMP:20260424T040125
CREATED:20160731T213055Z
LAST-MODIFIED:20160731T213055Z
UID:389-1469952000-1469984400@terrellhousebandb.com
SUMMARY:Burnsville Craft Fair
DESCRIPTION:Our 60th Annual Craft Fair is August 5-6\, 2016 with over 200 juried crafters displaying their creations  Come to Burnsville for the weekend. Their will be a quilt display in the Town Center as well.
URL:https://terrellhousebandb.com/events/burnsville-craft-fair/
END:VEVENT
BEGIN:VEVENT
DTSTART;TZID=UTC:20160730T080000
DTEND;TZID=UTC:20160813T170000
DTSTAMP:20260424T040125
CREATED:20160719T163845Z
LAST-MODIFIED:20160719T163845Z
UID:378-1469865600-1471107600@terrellhousebandb.com
SUMMARY:Parkway Playhouse does Grease
DESCRIPTION:Grease opens July 30 at Parkway Playhouse  on weekends thru August 13….
URL:https://terrellhousebandb.com/events/parkway-playhouse-does-grease/
LOCATION:Parkway Playhouse\, 202 Green Mountain Drive\, Burnsville\, NC\, 28601\, United States
END:VEVENT
BEGIN:VEVENT
DTSTART;TZID=UTC:20160702T193000
DTEND;TZID=UTC:20160716T170000
DTSTAMP:20260424T040125
CREATED:20160503T164513Z
LAST-MODIFIED:20160503T164513Z
UID:339-1467487800-1468688400@terrellhousebandb.com
SUMMARY:Parkway Playhouse - Little Shop of Horrors
DESCRIPTION:
URL:https://terrellhousebandb.com/events/parkway-playhouse-little-shop-of-horrors/
LOCATION:Parkway Playhouse\, 202 Green Mountain Drive\, Burnsville\, NC\, 28601\, United States
END:VEVENT
BEGIN:VEVENT
DTSTART;VALUE=DATE:20160625
DTEND;VALUE=DATE:20160626
DTSTAMP:20260424T040125
CREATED:20160319T194556Z
LAST-MODIFIED:20160319T194556Z
UID:317-1466812800-1466899199@terrellhousebandb.com
SUMMARY:Riddle Festival
DESCRIPTION:
URL:https://terrellhousebandb.com/events/riddle-festival-2/
LOCATION:Town Center\, Burnsville\, 28714
END:VEVENT
BEGIN:VEVENT
DTSTART;TZID=UTC:20160604T193000
DTEND;TZID=UTC:20160618T170000
DTSTAMP:20260424T040125
CREATED:20160503T164303Z
LAST-MODIFIED:20160503T164303Z
UID:338-1465068600-1466269200@terrellhousebandb.com
SUMMARY:Parkway Playhouse -The Ballad of Frankie Silver
DESCRIPTION:
URL:https://terrellhousebandb.com/events/parkway-playhouse-the-ballad-of-frankie-silver/
LOCATION:Parkway Playhouse\, 202 Green Mountain Drive\, Burnsville\, NC\, 28601\, United States
END:VEVENT
BEGIN:VEVENT
DTSTART;TZID=UTC:20160603T080000
DTEND;TZID=UTC:20160605T170000
DTSTAMP:20260424T040125
CREATED:20160506T183848Z
LAST-MODIFIED:20160506T183848Z
UID:346-1464940800-1465146000@terrellhousebandb.com
SUMMARY:Toe River Arts Council June Tour\, June 3-4-5
DESCRIPTION:
URL:https://terrellhousebandb.com/events/toe-river-arts-council-june-tour-june-3-4-5/
LOCATION:Yancey/Mitchell County
END:VEVENT
BEGIN:VEVENT
DTSTART;TZID=UTC:20160514T080000
DTEND;TZID=UTC:20160514T170000
DTSTAMP:20260424T040125
CREATED:20160503T165554Z
LAST-MODIFIED:20160503T165554Z
UID:343-1463212800-1463245200@terrellhousebandb.com
SUMMARY:NCAA Bike Racing
DESCRIPTION:
URL:https://terrellhousebandb.com/events/ncaa-bike-racing/
LOCATION:Town Square\, Burnsville\, 28714
END:VEVENT
BEGIN:VEVENT
DTSTART;TZID=UTC:20160514T080000
DTEND;TZID=UTC:20160514T110000
DTSTAMP:20260424T040125
CREATED:20160319T194439Z
LAST-MODIFIED:20160319T194439Z
UID:316-1463212800-1463223600@terrellhousebandb.com
SUMMARY:Burnsville Fitness 5K
DESCRIPTION:
URL:https://terrellhousebandb.com/events/burnsville-fitness-5k/
LOCATION:Town Center\, Burnsville\, 28714
END:VEVENT
BEGIN:VEVENT
DTSTART;TZID=UTC:20160507T193000
DTEND;TZID=UTC:20160521T170000
DTSTAMP:20260424T040125
CREATED:20160503T164025Z
LAST-MODIFIED:20160503T164025Z
UID:337-1462649400-1463850000@terrellhousebandb.com
SUMMARY:Parkway Playhouse - Steel Magnolias
DESCRIPTION:
URL:https://terrellhousebandb.com/events/parkway-playhouse-steel-magnolias/
LOCATION:Parkway Playhouse\, 202 Green Mountain Drive\, Burnsville\, NC\, 28601\, United States
END:VEVENT
END:VCALENDAR