BEGIN:VCALENDAR
VERSION:2.0
PRODID:-// - ECPv6.15.1.1//NONSGML v1.0//EN
CALSCALE:GREGORIAN
METHOD:PUBLISH
X-ORIGINAL-URL:https://terrellhousebandb.com
X-WR-CALDESC:Events for 
REFRESH-INTERVAL;VALUE=DURATION:PT1H
X-Robots-Tag:noindex
X-PUBLISHED-TTL:PT1H
BEGIN:VTIMEZONE
TZID:UTC
BEGIN:STANDARD
TZOFFSETFROM:+0000
TZOFFSETTO:+0000
TZNAME:UTC
DTSTART:20160101T000000
END:STANDARD
END:VTIMEZONE
BEGIN:VEVENT
DTSTART;VALUE=DATE:20160827
DTEND;VALUE=DATE:20160828
DTSTAMP:20260424T094514
CREATED:20160418T234150Z
LAST-MODIFIED:20160418T234840Z
UID:333-1472256000-1472342399@terrellhousebandb.com
SUMMARY:Mount Mitchell State Park Centennial Celebration
DESCRIPTION:Access to Mt. Mitchell State Park from the Blue Ridge Parkway will be closed to all vehicle traffic on Saturday\, August 27th. Mt. Mitchell State Park will be hosting the signature Centennial Celebration for NC State Parks and will provide shuttle services to the park from several regional locations to ensure that visitors may attend the event in a safe and enjoyable manner. We will have more information on shuttle locations and event plans as we get closer to August 27th.
URL:https://terrellhousebandb.com/events/mt-mitchell-state-park-centennial-celebration/
LOCATION:Mount Mitchell State Park\, 2388 State Highway 128\, Burnsville\, NC\, 28714\, United States
CATEGORIES:Blue Ridge Parkway
END:VEVENT
END:VCALENDAR